BEGIN:VCALENDAR
VERSION:2.0
PRODID:friedrich-ehrhardt.de
METHOD:PUBLISH
BEGIN:VTIMEZONE
TZID:Europe/Berlin
X-LIC-LOCATION:Europe/Berlin
BEGIN:DAYLIGHT
TZOFFSETFROM:+0100
TZOFFSETTO:+0200
TZNAME:CEST
DTSTART:19700329T020000
RRULE:FREQ=YEARLY;INTERVAL=1;BYDAY=-1SU;BYMONTH=3
END:DAYLIGHT
BEGIN:STANDARD
TZOFFSETFROM:+0200
TZOFFSETTO:+0100
TZNAME:CET
DTSTART:19701025T030000
RRULE:FREQ=YEARLY;INTERVAL=1;BYDAY=-1SU;BYMONTH=10
END:STANDARD
END:VTIMEZONE
BEGIN:VEVENT
UID:a616d4a28940f17731723357c0b35060@friedrich-ehrhardt.de
URL;VALUE=URI:https://friedrich-ehrhardt.de/termine/cleanup/
LOCATION:Blankenburg - Dorfanger
SUMMARY:CleanUp in Blankenburg am Dorfanger
DESCRIPTION;ALTREP="data:text/html,%0A%3Cp%3EZusammen%20mit%20den%20gro%C
 3%9Fartigen%20Netzwerker%2Ainnen%20aus%20Blankenburg%20werden%20wir%20den
 %20sch%C3%B6nen%20Dorfanger%20in%20Blankenburg%20p%C3%BCnktlich%20vor%20d
 em%201.%20Mai%20von%20M%C3%BCll%20und%20Unrat%20befreien.%20%20%3C%2Fp%3E
 %0A%0A%0A%0A%3Cfigure%20class%3D%22wp-block-image%20size-large%22%3E%3Cim
 g%20src%3D%22https%3A%2F%2Ffriedrich-ehrhardt.de%2Fwp-content%2Fuploads%2
 Fsites%2F327%2F2026%2F04%2FCleanUp-1-1024x755.png%22%20alt%3D%22%22%20cla
 ss%3D%22wp-image-678%22%20%2F%3E%3C%2Ffigure%3E%0A":Zusammen mit den gro
 ßartigen Netzwerker*innen aus Blankenburg werden wir den schönen Dorfan
 ger in Blankenburg pünktlich vor dem 1. Mai von Müll und Unrat befreien
 .
CLASS:PUBLIC
DTSTART;TZID=Europe/Berlin:20260426T160000
DTEND;TZID=Europe/Berlin:20260426T180000
DTSTAMP:20260421T094417
END:VEVENT
END:VCALENDAR